BEGIN:VCALENDAR
VERSION:2.0
PRODID:spatie/icalendar-generator
NAME:Real World Ethics Update for CPAs in Industry
X-WR-CALNAME:Real World Ethics Update for CPAs in Industry
BEGIN:VTIMEZONE
TZID:America/Chicago
BEGIN:STANDARD
DTSTART:20191103T010000
TZOFFSETFROM:-0500
TZOFFSETTO:-0600
END:STANDARD
BEGIN:DAYLIGHT
DTSTART:20200308T010000
TZOFFSETFROM:-0600
TZOFFSETTO:-0500
END:DAYLIGHT
BEGIN:STANDARD
DTSTART:20201101T010000
TZOFFSETFROM:-0500
TZOFFSETTO:-0600
END:STANDARD
END:VTIMEZONE
BEGIN:VTIMEZONE
TZID:UTC
BEGIN:STANDARD
DTSTART:20250726T191144
TZOFFSETFROM:+0000
TZOFFSETTO:+0000
END:STANDARD
END:VTIMEZONE
BEGIN:VEVENT
UID:69e91d70462b1
DTSTAMP:20260422T191144Z
SUMMARY:Real World Ethics Update for CPAs in Industry
LOCATION: 
URL:https://alabama.cpa/catalog/events/658063-real-world-ethics-update-for-
 cpas-in-industry-2020-28-05
DTSTART;TZID=America/Chicago:20200528T080000
DTEND;TZID=America/Chicago:20200528T094000
END:VEVENT
END:VCALENDAR