BEGIN:VCALENDAR
VERSION:2.0
PRODID:spatie/icalendar-generator
NAME:Business and Industry Roundtable
X-WR-CALNAME:Business and Industry Roundtable
BEGIN:VTIMEZONE
TZID:America/Chicago
BEGIN:STANDARD
DTSTART:20161106T010000
TZOFFSETFROM:-0500
TZOFFSETTO:-0600
END:STANDARD
BEGIN:DAYLIGHT
DTSTART:20170312T010000
TZOFFSETFROM:-0600
TZOFFSETTO:-0500
END:DAYLIGHT
BEGIN:STANDARD
DTSTART:20171105T010000
TZOFFSETFROM:-0500
TZOFFSETTO:-0600
END:STANDARD
END:VTIMEZONE
BEGIN:VTIMEZONE
TZID:UTC
BEGIN:STANDARD
DTSTART:20250727T230243
TZOFFSETFROM:+0000
TZOFFSETTO:+0000
END:STANDARD
END:VTIMEZONE
BEGIN:VEVENT
UID:69eaa513017ee
DTSTAMP:20260423T230243Z
SUMMARY:Business and Industry Roundtable
LOCATION:925 Beach Club Trl\, Gulf Shores\, Baldwin County\, Alabama 36542-
 8142
URL:https://alabama.cpa/catalog/events/658225-business-and-industry-roundta
 ble-2017-22-06
DTSTART;TZID=America/Chicago:20170622T083000
DTEND;TZID=America/Chicago:20170622T120000
END:VEVENT
END:VCALENDAR