BEGIN:VCALENDAR
VERSION:2.0
PRODID:spatie/icalendar-generator
NAME:Section 199A: Applications and Challenges (AIG4)
X-WR-CALNAME:Section 199A: Applications and Challenges (AIG4)
BEGIN:VTIMEZONE
TZID:America/Chicago
BEGIN:DAYLIGHT
DTSTART:20210314T010000
TZOFFSETFROM:-0600
TZOFFSETTO:-0500
END:DAYLIGHT
BEGIN:STANDARD
DTSTART:20211107T010000
TZOFFSETFROM:-0500
TZOFFSETTO:-0600
END:STANDARD
END:VTIMEZONE
BEGIN:VTIMEZONE
TZID:UTC
BEGIN:STANDARD
DTSTART:20250727T071904
TZOFFSETFROM:+0000
TZOFFSETTO:+0000
END:STANDARD
END:VTIMEZONE
BEGIN:VEVENT
UID:69e9c7e829030
DTSTAMP:20260423T071904Z
SUMMARY:Section 199A: Applications and Challenges (AIG4)
URL:https://alabama.cpa/catalog/events/658439-section-199a-applications-and
 -challenges-aig4-2021-26-08
DTSTART;TZID=America/Chicago:20210826T080000
DTEND;TZID=America/Chicago:20210826T113000
END:VEVENT
END:VCALENDAR