BEGIN:VCALENDAR
VERSION:2.0
PRODID:spatie/icalendar-generator
NAME:The Changing Role of the Controller: Advancing from Tactical to Strate
 gic
X-WR-CALNAME:The Changing Role of the Controller: Advancing from Tactical t
 o Strategic
BEGIN:VTIMEZONE
TZID:America/Chicago
BEGIN:STANDARD
DTSTART:20191103T010000
TZOFFSETFROM:-0500
TZOFFSETTO:-0600
END:STANDARD
BEGIN:DAYLIGHT
DTSTART:20200308T010000
TZOFFSETFROM:-0600
TZOFFSETTO:-0500
END:DAYLIGHT
BEGIN:STANDARD
DTSTART:20201101T010000
TZOFFSETFROM:-0500
TZOFFSETTO:-0600
END:STANDARD
END:VTIMEZONE
BEGIN:VTIMEZONE
TZID:UTC
BEGIN:STANDARD
DTSTART:20250723T203836
TZOFFSETFROM:+0000
TZOFFSETTO:+0000
END:STANDARD
END:VTIMEZONE
BEGIN:VEVENT
UID:69e53d4c828cd
DTSTAMP:20260419T203836Z
SUMMARY:The Changing Role of the Controller: Advancing from Tactical to Str
 ategic
URL:https://alabama.cpa/catalog/events/658473-the-changing-role-of-the-cont
 roller-advancing-from-tactical-to-strategic-2020-22-06
DTSTART;TZID=America/Chicago:20200622T123000
DTEND;TZID=America/Chicago:20200622T160000
END:VEVENT
END:VCALENDAR