BEGIN:VCALENDAR
VERSION:2.0
PRODID:spatie/icalendar-generator
NAME:Peer Review Update
X-WR-CALNAME:Peer Review Update
BEGIN:VTIMEZONE
TZID:America/Chicago
BEGIN:STANDARD
DTSTART:20211107T010000
TZOFFSETFROM:-0500
TZOFFSETTO:-0600
END:STANDARD
BEGIN:DAYLIGHT
DTSTART:20220313T010000
TZOFFSETFROM:-0600
TZOFFSETTO:-0500
END:DAYLIGHT
BEGIN:STANDARD
DTSTART:20221106T010000
TZOFFSETFROM:-0500
TZOFFSETTO:-0600
END:STANDARD
END:VTIMEZONE
BEGIN:VTIMEZONE
TZID:UTC
BEGIN:STANDARD
DTSTART:20250728T031839
TZOFFSETFROM:+0000
TZOFFSETTO:+0000
END:STANDARD
END:VTIMEZONE
BEGIN:VEVENT
UID:69eae10ff41da
DTSTAMP:20260424T031839Z
SUMMARY:Peer Review Update
LOCATION:21196 E Beach Blvd\, Gulf Shores\, Baldwin County\, Alabama 36542-
 6549
URL:https://alabama.cpa/catalog/events/658479-peer-review-update-2022-19-07
DTSTART;TZID=America/Chicago:20220719T130000
DTEND;TZID=America/Chicago:20220719T160000
END:VEVENT
END:VCALENDAR