BEGIN:VCALENDAR
VERSION:2.0
PRODID:spatie/icalendar-generator
NAME:The Best S Corporation\, Limited Liability\, and Partnership Update Co
 urse by Surgent
X-WR-CALNAME:The Best S Corporation\, Limited Liability\, and Partnership U
 pdate Course by Surgent
BEGIN:VTIMEZONE
TZID:America/Chicago
BEGIN:DAYLIGHT
DTSTART:20200308T010000
TZOFFSETFROM:-0600
TZOFFSETTO:-0500
END:DAYLIGHT
BEGIN:STANDARD
DTSTART:20201101T010000
TZOFFSETFROM:-0500
TZOFFSETTO:-0600
END:STANDARD
END:VTIMEZONE
BEGIN:VTIMEZONE
TZID:UTC
BEGIN:STANDARD
DTSTART:20250725T071151
TZOFFSETFROM:+0000
TZOFFSETTO:+0000
END:STANDARD
END:VTIMEZONE
BEGIN:VEVENT
UID:69e723370473c
DTSTAMP:20260421T071151Z
SUMMARY:The Best S Corporation\, Limited Liability\, and Partnership Update
  Course by Surgent
URL:https://alabama.cpa/catalog/events/659548-the-best-s-corporation-limite
 d-liability-and-partnership-update-course-by-surgent-2020-20-08
DTSTART;TZID=America/Chicago:20200820T080000
DTEND;TZID=America/Chicago:20200820T153000
END:VEVENT
END:VCALENDAR