BEGIN:VCALENDAR
VERSION:2.0
PRODID:spatie/icalendar-generator
NAME:Forensic Investigations: Key Tools to Success
X-WR-CALNAME:Forensic Investigations: Key Tools to Success
BEGIN:VTIMEZONE
TZID:America/Chicago
BEGIN:DAYLIGHT
DTSTART:20180311T010000
TZOFFSETFROM:-0600
TZOFFSETTO:-0500
END:DAYLIGHT
BEGIN:STANDARD
DTSTART:20181104T010000
TZOFFSETFROM:-0500
TZOFFSETTO:-0600
END:STANDARD
END:VTIMEZONE
BEGIN:VTIMEZONE
TZID:UTC
BEGIN:STANDARD
DTSTART:20250724T075449
TZOFFSETFROM:+0000
TZOFFSETTO:+0000
END:STANDARD
END:VTIMEZONE
BEGIN:VEVENT
UID:69e5dbc9ec1e8
DTSTAMP:20260420T075449Z
SUMMARY:Forensic Investigations: Key Tools to Success
LOCATION:171 Hospitality Ln\, Dothan\, Houston County\, Alabama 36303-1879
URL:https://alabama.cpa/catalog/events/659610-forensic-investigations-key-t
 ools-to-success-2018-20-08
DTSTART;TZID=America/Chicago:20180820T080000
DTEND;TZID=America/Chicago:20180820T113000
END:VEVENT
END:VCALENDAR