BEGIN:VCALENDAR
VERSION:2.0
PRODID:spatie/icalendar-generator
NAME:Enterprise Risk Management for Small and Medium-Sized Companies
X-WR-CALNAME:Enterprise Risk Management for Small and Medium-Sized Companie
 s
BEGIN:VTIMEZONE
TZID:America/Chicago
BEGIN:DAYLIGHT
DTSTART:20200308T010000
TZOFFSETFROM:-0600
TZOFFSETTO:-0500
END:DAYLIGHT
BEGIN:STANDARD
DTSTART:20201101T010000
TZOFFSETFROM:-0500
TZOFFSETTO:-0600
END:STANDARD
END:VTIMEZONE
BEGIN:VTIMEZONE
TZID:UTC
BEGIN:STANDARD
DTSTART:20250726T052428
TZOFFSETFROM:+0000
TZOFFSETTO:+0000
END:STANDARD
END:VTIMEZONE
BEGIN:VEVENT
UID:69e85b8ccadba
DTSTAMP:20260422T052428Z
SUMMARY:Enterprise Risk Management for Small and Medium-Sized Companies
URL:https://alabama.cpa/catalog/events/660038-enterprise-risk-management-fo
 r-small-and-medium-sized-companies-2020-24-08
DTSTART;TZID=America/Chicago:20200824T080000
DTEND;TZID=America/Chicago:20200824T153000
END:VEVENT
END:VCALENDAR