BEGIN:VCALENDAR
VERSION:2.0
PRODID:spatie/icalendar-generator
NAME:2017 Accounting and Auditing Update for the Real World
X-WR-CALNAME:2017 Accounting and Auditing Update for the Real World
BEGIN:VTIMEZONE
TZID:America/Chicago
BEGIN:DAYLIGHT
DTSTART:20170312T010000
TZOFFSETFROM:-0600
TZOFFSETTO:-0500
END:DAYLIGHT
BEGIN:STANDARD
DTSTART:20171105T010000
TZOFFSETFROM:-0500
TZOFFSETTO:-0600
END:STANDARD
END:VTIMEZONE
BEGIN:VTIMEZONE
TZID:UTC
BEGIN:STANDARD
DTSTART:20250726T184109
TZOFFSETFROM:+0000
TZOFFSETTO:+0000
END:STANDARD
END:VTIMEZONE
BEGIN:VEVENT
UID:69e9164518400
DTSTAMP:20260422T184109Z
SUMMARY:2017 Accounting and Auditing Update for the Real World
LOCATION: 
URL:https://alabama.cpa/catalog/events/660164-2017-accounting-and-auditing-
 update-for-the-real-world-2017-25-08
DTSTART;TZID=America/Chicago:20170825T083000
DTEND;TZID=America/Chicago:20170825T120000
END:VEVENT
END:VCALENDAR