BEGIN:VCALENDAR
VERSION:2.0
PRODID:spatie/icalendar-generator
NAME:Analytics and Big Data for Accountants
X-WR-CALNAME:Analytics and Big Data for Accountants
BEGIN:VTIMEZONE
TZID:America/Chicago
BEGIN:DAYLIGHT
DTSTART:20200308T010000
TZOFFSETFROM:-0600
TZOFFSETTO:-0500
END:DAYLIGHT
BEGIN:STANDARD
DTSTART:20201101T010000
TZOFFSETFROM:-0500
TZOFFSETTO:-0600
END:STANDARD
END:VTIMEZONE
BEGIN:VTIMEZONE
TZID:UTC
BEGIN:STANDARD
DTSTART:20250725T005531
TZOFFSETFROM:+0000
TZOFFSETTO:+0000
END:STANDARD
END:VTIMEZONE
BEGIN:VEVENT
UID:69e6cb03590a3
DTSTAMP:20260421T005531Z
SUMMARY:Analytics and Big Data for Accountants
URL:https://alabama.cpa/catalog/events/660287-analytics-and-big-data-for-ac
 countants-2020-26-08
DTSTART;TZID=America/Chicago:20200826T080000
DTEND;TZID=America/Chicago:20200826T153000
END:VEVENT
END:VCALENDAR