BEGIN:VCALENDAR
VERSION:2.0
PRODID:spatie/icalendar-generator
NAME:Advanced Audits of 401(k) Plans: Best Practices and Current Developmen
 ts
X-WR-CALNAME:Advanced Audits of 401(k) Plans: Best Practices and Current De
 velopments
BEGIN:VTIMEZONE
TZID:America/Chicago
BEGIN:DAYLIGHT
DTSTART:20190310T010000
TZOFFSETFROM:-0600
TZOFFSETTO:-0500
END:DAYLIGHT
BEGIN:STANDARD
DTSTART:20191103T010000
TZOFFSETFROM:-0500
TZOFFSETTO:-0600
END:STANDARD
END:VTIMEZONE
BEGIN:VTIMEZONE
TZID:UTC
BEGIN:STANDARD
DTSTART:20250725T185129
TZOFFSETFROM:+0000
TZOFFSETTO:+0000
END:STANDARD
END:VTIMEZONE
BEGIN:VEVENT
UID:69e7c7310e4ed
DTSTAMP:20260421T185129Z
SUMMARY:Advanced Audits of 401(k) Plans: Best Practices and Current Develop
 ments
LOCATION: 
URL:https://alabama.cpa/catalog/events/660428-advanced-audits-of-401k-plans
 -best-practices-and-current-developments-2019-22-08
DTSTART;TZID=America/Chicago:20190822T080000
DTEND;TZID=America/Chicago:20190822T154500
END:VEVENT
END:VCALENDAR