BEGIN:VCALENDAR
VERSION:2.0
PRODID:spatie/icalendar-generator
NAME:GUIDE AND UPDATE TO COMPILATIONS\, REVIEWS\, AND NEW PREPARATIONS
X-WR-CALNAME:GUIDE AND UPDATE TO COMPILATIONS\, REVIEWS\, AND NEW PREPARATI
 ONS
BEGIN:VTIMEZONE
TZID:America/Chicago
BEGIN:DAYLIGHT
DTSTART:20170312T010000
TZOFFSETFROM:-0600
TZOFFSETTO:-0500
END:DAYLIGHT
BEGIN:STANDARD
DTSTART:20171105T010000
TZOFFSETFROM:-0500
TZOFFSETTO:-0600
END:STANDARD
END:VTIMEZONE
BEGIN:VTIMEZONE
TZID:UTC
BEGIN:STANDARD
DTSTART:20250725T230849
TZOFFSETFROM:+0000
TZOFFSETTO:+0000
END:STANDARD
END:VTIMEZONE
BEGIN:VEVENT
UID:69e80381a2487
DTSTAMP:20260421T230849Z
SUMMARY:GUIDE AND UPDATE TO COMPILATIONS\, REVIEWS\, AND NEW PREPARATIONS
LOCATION:500 University Dr\, Dothan\, Houston County\, Alabama 36303-1695
URL:https://alabama.cpa/catalog/events/660795-guide-and-update-to-compilati
 ons-reviews-and-new-preparations-2017-29-08
DTSTART;TZID=America/Chicago:20170829T130000
DTEND;TZID=America/Chicago:20170829T163000
END:VEVENT
END:VCALENDAR