BEGIN:VCALENDAR
VERSION:2.0
PRODID:spatie/icalendar-generator
NAME:Controller's Update: Today's Latest Trends
X-WR-CALNAME:Controller's Update: Today's Latest Trends
BEGIN:VTIMEZONE
TZID:America/Chicago
BEGIN:DAYLIGHT
DTSTART:20200308T010000
TZOFFSETFROM:-0600
TZOFFSETTO:-0500
END:DAYLIGHT
BEGIN:STANDARD
DTSTART:20201101T010000
TZOFFSETFROM:-0500
TZOFFSETTO:-0600
END:STANDARD
BEGIN:DAYLIGHT
DTSTART:20210314T010000
TZOFFSETFROM:-0600
TZOFFSETTO:-0500
END:DAYLIGHT
END:VTIMEZONE
BEGIN:VTIMEZONE
TZID:UTC
BEGIN:STANDARD
DTSTART:20250727T032959
TZOFFSETFROM:+0000
TZOFFSETTO:+0000
END:STANDARD
END:VTIMEZONE
BEGIN:VEVENT
UID:69e99237e849d
DTSTAMP:20260423T032959Z
SUMMARY:Controller's Update: Today's Latest Trends
URL:https://alabama.cpa/catalog/events/660894-controllers-update-todays-lat
 est-trends-2020-21-09
DTSTART;TZID=America/Chicago:20200921T080000
DTEND;TZID=America/Chicago:20200921T113000
END:VEVENT
END:VCALENDAR