BEGIN:VCALENDAR
VERSION:2.0
PRODID:spatie/icalendar-generator
NAME:Risk\, Cost\, and Cash Management for Controllers and Financial Manage
 rs
X-WR-CALNAME:Risk\, Cost\, and Cash Management for Controllers and Financia
 l Managers
BEGIN:VTIMEZONE
TZID:America/Chicago
BEGIN:DAYLIGHT
DTSTART:20200308T010000
TZOFFSETFROM:-0600
TZOFFSETTO:-0500
END:DAYLIGHT
BEGIN:STANDARD
DTSTART:20201101T010000
TZOFFSETFROM:-0500
TZOFFSETTO:-0600
END:STANDARD
BEGIN:DAYLIGHT
DTSTART:20210314T010000
TZOFFSETFROM:-0600
TZOFFSETTO:-0500
END:DAYLIGHT
END:VTIMEZONE
BEGIN:VTIMEZONE
TZID:UTC
BEGIN:STANDARD
DTSTART:20250728T004642
TZOFFSETFROM:+0000
TZOFFSETTO:+0000
END:STANDARD
END:VTIMEZONE
BEGIN:VEVENT
UID:69eabd7219968
DTSTAMP:20260424T004642Z
SUMMARY:Risk\, Cost\, and Cash Management for Controllers and Financial Man
 agers
URL:https://alabama.cpa/catalog/events/660972-risk-cost-and-cash-management
 -for-controllers-and-financial-managers-2020-21-09
DTSTART;TZID=America/Chicago:20200921T123000
DTEND;TZID=America/Chicago:20200921T160000
END:VEVENT
END:VCALENDAR