BEGIN:VCALENDAR
VERSION:2.0
PRODID:spatie/icalendar-generator
NAME:Federal Tax Update: Comprehensive Individual Tax-Form 1040
X-WR-CALNAME:Federal Tax Update: Comprehensive Individual Tax-Form 1040
BEGIN:VTIMEZONE
TZID:America/Chicago
BEGIN:DAYLIGHT
DTSTART:20220313T010000
TZOFFSETFROM:-0600
TZOFFSETTO:-0500
END:DAYLIGHT
BEGIN:STANDARD
DTSTART:20221106T010000
TZOFFSETFROM:-0500
TZOFFSETTO:-0600
END:STANDARD
END:VTIMEZONE
BEGIN:VTIMEZONE
TZID:UTC
BEGIN:STANDARD
DTSTART:20250724T165025
TZOFFSETFROM:+0000
TZOFFSETTO:+0000
END:STANDARD
END:VTIMEZONE
BEGIN:VEVENT
UID:69e65951db7bc
DTSTAMP:20260420T165025Z
SUMMARY:Federal Tax Update: Comprehensive Individual Tax-Form 1040
URL:https://alabama.cpa/catalog/events/661466-federal-tax-update-comprehens
 ive-individual-tax-form-1040-2022-18-08
DTSTART;TZID=America/Chicago:20220818T100000
DTEND;TZID=America/Chicago:20220818T173000
END:VEVENT
END:VCALENDAR