BEGIN:VCALENDAR
VERSION:2.0
PRODID:spatie/icalendar-generator
NAME:Retirement Penalties and Rollover Issues
X-WR-CALNAME:Retirement Penalties and Rollover Issues
BEGIN:VTIMEZONE
TZID:America/Chicago
BEGIN:STANDARD
DTSTART:20211107T010000
TZOFFSETFROM:-0500
TZOFFSETTO:-0600
END:STANDARD
BEGIN:DAYLIGHT
DTSTART:20220313T010000
TZOFFSETFROM:-0600
TZOFFSETTO:-0500
END:DAYLIGHT
BEGIN:STANDARD
DTSTART:20221106T010000
TZOFFSETFROM:-0500
TZOFFSETTO:-0600
END:STANDARD
END:VTIMEZONE
BEGIN:VTIMEZONE
TZID:UTC
BEGIN:STANDARD
DTSTART:20250725T064020
TZOFFSETFROM:+0000
TZOFFSETTO:+0000
END:STANDARD
END:VTIMEZONE
BEGIN:VEVENT
UID:69e71bd4375c0
DTSTAMP:20260421T064020Z
SUMMARY:Retirement Penalties and Rollover Issues
URL:https://alabama.cpa/catalog/events/661561-retirement-penalties-and-roll
 over-issues-2022-18-07
DTSTART;TZID=America/Chicago:20220718T120000
DTEND;TZID=America/Chicago:20220718T140000
END:VEVENT
END:VCALENDAR