BEGIN:VCALENDAR
VERSION:2.0
PRODID:spatie/icalendar-generator
NAME:S Corporations: QSUB Elections
X-WR-CALNAME:S Corporations: QSUB Elections
BEGIN:VTIMEZONE
TZID:America/Chicago
BEGIN:STANDARD
DTSTART:20211107T010000
TZOFFSETFROM:-0500
TZOFFSETTO:-0600
END:STANDARD
BEGIN:DAYLIGHT
DTSTART:20220313T010000
TZOFFSETFROM:-0600
TZOFFSETTO:-0500
END:DAYLIGHT
BEGIN:STANDARD
DTSTART:20221106T010000
TZOFFSETFROM:-0500
TZOFFSETTO:-0600
END:STANDARD
END:VTIMEZONE
BEGIN:VTIMEZONE
TZID:UTC
BEGIN:STANDARD
DTSTART:20250730T024712
TZOFFSETFROM:+0000
TZOFFSETTO:+0000
END:STANDARD
END:VTIMEZONE
BEGIN:VEVENT
UID:69ed7cb0d4bb0
DTSTAMP:20260426T024712Z
SUMMARY:S Corporations: QSUB Elections
URL:https://alabama.cpa/catalog/events/661694-s-corporations-qsub-elections
 -2022-13-06
DTSTART;TZID=America/Chicago:20220613T120000
DTEND;TZID=America/Chicago:20220613T130000
END:VEVENT
END:VCALENDAR