BEGIN:VCALENDAR
VERSION:2.0
PRODID:spatie/icalendar-generator
NAME:Lean Accounting and Management: Saving Money by Streamlining Operation
 s
X-WR-CALNAME:Lean Accounting and Management: Saving Money by Streamlining O
 perations
BEGIN:VTIMEZONE
TZID:America/Chicago
BEGIN:DAYLIGHT
DTSTART:20170312T010000
TZOFFSETFROM:-0600
TZOFFSETTO:-0500
END:DAYLIGHT
BEGIN:STANDARD
DTSTART:20171105T010000
TZOFFSETFROM:-0500
TZOFFSETTO:-0600
END:STANDARD
BEGIN:DAYLIGHT
DTSTART:20180311T010000
TZOFFSETFROM:-0600
TZOFFSETTO:-0500
END:DAYLIGHT
END:VTIMEZONE
BEGIN:VTIMEZONE
TZID:UTC
BEGIN:STANDARD
DTSTART:20250725T095708
TZOFFSETFROM:+0000
TZOFFSETTO:+0000
END:STANDARD
END:VTIMEZONE
BEGIN:VEVENT
UID:69e749f415fe1
DTSTAMP:20260421T095708Z
SUMMARY:Lean Accounting and Management: Saving Money by Streamlining Operat
 ions
LOCATION: 
URL:https://alabama.cpa/catalog/events/661792-lean-accounting-and-managemen
 t-saving-money-by-streamlining-operations-2017-18-09
DTSTART;TZID=America/Chicago:20170918T130000
DTEND;TZID=America/Chicago:20170918T163000
END:VEVENT
END:VCALENDAR