BEGIN:VCALENDAR
VERSION:2.0
PRODID:spatie/icalendar-generator
NAME:Communications Skills Training for the CPA
X-WR-CALNAME:Communications Skills Training for the CPA
BEGIN:VTIMEZONE
TZID:America/Chicago
BEGIN:STANDARD
DTSTART:20211107T010000
TZOFFSETFROM:-0500
TZOFFSETTO:-0600
END:STANDARD
BEGIN:DAYLIGHT
DTSTART:20220313T010000
TZOFFSETFROM:-0600
TZOFFSETTO:-0500
END:DAYLIGHT
BEGIN:STANDARD
DTSTART:20221106T010000
TZOFFSETFROM:-0500
TZOFFSETTO:-0600
END:STANDARD
END:VTIMEZONE
BEGIN:VTIMEZONE
TZID:UTC
BEGIN:STANDARD
DTSTART:20250727T214422
TZOFFSETFROM:+0000
TZOFFSETTO:+0000
END:STANDARD
END:VTIMEZONE
BEGIN:VEVENT
UID:69ea92b69b008
DTSTAMP:20260423T214422Z
SUMMARY:Communications Skills Training for the CPA
URL:https://alabama.cpa/catalog/events/661833-communications-skills-trainin
 g-for-the-cpa-2022-11-05
DTSTART;TZID=America/Chicago:20220511T130000
DTEND;TZID=America/Chicago:20220511T150000
END:VEVENT
END:VCALENDAR