BEGIN:VCALENDAR
VERSION:2.0
PRODID:spatie/icalendar-generator
NAME:Operations Level Internal Control
X-WR-CALNAME:Operations Level Internal Control
BEGIN:VTIMEZONE
TZID:America/Chicago
BEGIN:DAYLIGHT
DTSTART:20220313T010000
TZOFFSETFROM:-0600
TZOFFSETTO:-0500
END:DAYLIGHT
BEGIN:STANDARD
DTSTART:20221106T010000
TZOFFSETFROM:-0500
TZOFFSETTO:-0600
END:STANDARD
END:VTIMEZONE
BEGIN:VTIMEZONE
TZID:UTC
BEGIN:STANDARD
DTSTART:20250724T005019
TZOFFSETFROM:+0000
TZOFFSETTO:+0000
END:STANDARD
END:VTIMEZONE
BEGIN:VEVENT
UID:69e5784b3b7c7
DTSTAMP:20260420T005019Z
SUMMARY:Operations Level Internal Control
URL:https://alabama.cpa/catalog/events/661980-operations-level-internal-con
 trol-2022-08-08
DTSTART;TZID=America/Chicago:20220808T100000
DTEND;TZID=America/Chicago:20220808T140000
END:VEVENT
END:VCALENDAR