BEGIN:VCALENDAR
VERSION:2.0
PRODID:spatie/icalendar-generator
NAME:Lease Accounting for Lessees Under ASC 842
X-WR-CALNAME:Lease Accounting for Lessees Under ASC 842
BEGIN:VTIMEZONE
TZID:America/Chicago
BEGIN:STANDARD
DTSTART:20211107T010000
TZOFFSETFROM:-0500
TZOFFSETTO:-0600
END:STANDARD
BEGIN:DAYLIGHT
DTSTART:20220313T010000
TZOFFSETFROM:-0600
TZOFFSETTO:-0500
END:DAYLIGHT
BEGIN:STANDARD
DTSTART:20221106T010000
TZOFFSETFROM:-0500
TZOFFSETTO:-0600
END:STANDARD
END:VTIMEZONE
BEGIN:VTIMEZONE
TZID:UTC
BEGIN:STANDARD
DTSTART:20250728T200509
TZOFFSETFROM:+0000
TZOFFSETTO:+0000
END:STANDARD
END:VTIMEZONE
BEGIN:VEVENT
UID:69ebccf57d31d
DTSTAMP:20260424T200509Z
SUMMARY:Lease Accounting for Lessees Under ASC 842
URL:https://alabama.cpa/catalog/events/662282-lease-accounting-for-lessees-
 under-asc-842-2022-27-05
DTSTART;TZID=America/Chicago:20220527T120000
DTEND;TZID=America/Chicago:20220527T130000
END:VEVENT
END:VCALENDAR