BEGIN:VCALENDAR
VERSION:2.0
PRODID:spatie/icalendar-generator
NAME:The Need to Focus On Cybersecurity
X-WR-CALNAME:The Need to Focus On Cybersecurity
BEGIN:VTIMEZONE
TZID:America/Chicago
BEGIN:DAYLIGHT
DTSTART:20220313T010000
TZOFFSETFROM:-0600
TZOFFSETTO:-0500
END:DAYLIGHT
BEGIN:STANDARD
DTSTART:20221106T010000
TZOFFSETFROM:-0500
TZOFFSETTO:-0600
END:STANDARD
BEGIN:DAYLIGHT
DTSTART:20230312T010000
TZOFFSETFROM:-0600
TZOFFSETTO:-0500
END:DAYLIGHT
END:VTIMEZONE
BEGIN:VTIMEZONE
TZID:UTC
BEGIN:STANDARD
DTSTART:20250726T111205
TZOFFSETFROM:+0000
TZOFFSETTO:+0000
END:STANDARD
END:VTIMEZONE
BEGIN:VEVENT
UID:69e8ad05db0fa
DTSTAMP:20260422T111205Z
SUMMARY:The Need to Focus On Cybersecurity
URL:https://alabama.cpa/catalog/events/662935-the-need-to-focus-on-cybersec
 urity-2022-29-11
DTSTART;TZID=America/Chicago:20221129T120000
DTEND;TZID=America/Chicago:20221129T140000
END:VEVENT
END:VCALENDAR