BEGIN:VCALENDAR
VERSION:2.0
PRODID:spatie/icalendar-generator
NAME:Special Considerations under Revenue Recognition
X-WR-CALNAME:Special Considerations under Revenue Recognition
BEGIN:VTIMEZONE
TZID:America/Chicago
BEGIN:DAYLIGHT
DTSTART:20220313T010000
TZOFFSETFROM:-0600
TZOFFSETTO:-0500
END:DAYLIGHT
BEGIN:STANDARD
DTSTART:20221106T010000
TZOFFSETFROM:-0500
TZOFFSETTO:-0600
END:STANDARD
BEGIN:DAYLIGHT
DTSTART:20230312T010000
TZOFFSETFROM:-0600
TZOFFSETTO:-0500
END:DAYLIGHT
END:VTIMEZONE
BEGIN:VTIMEZONE
TZID:UTC
BEGIN:STANDARD
DTSTART:20250727T221926
TZOFFSETFROM:+0000
TZOFFSETTO:+0000
END:STANDARD
END:VTIMEZONE
BEGIN:VEVENT
UID:69ea9aeec3dc4
DTSTAMP:20260423T221926Z
SUMMARY:Special Considerations under Revenue Recognition
URL:https://alabama.cpa/catalog/events/671759-special-considerations-under-
 revenue-recognition-2022-22-11
DTSTART;TZID=America/Chicago:20221122T090000
DTEND;TZID=America/Chicago:20221122T100000
END:VEVENT
END:VCALENDAR