BEGIN:VCALENDAR
VERSION:2.0
PRODID:spatie/icalendar-generator
NAME:Linking Risk Management to Strategy
X-WR-CALNAME:Linking Risk Management to Strategy
BEGIN:VTIMEZONE
TZID:America/Chicago
BEGIN:DAYLIGHT
DTSTART:20220313T010000
TZOFFSETFROM:-0600
TZOFFSETTO:-0500
END:DAYLIGHT
BEGIN:STANDARD
DTSTART:20221106T010000
TZOFFSETFROM:-0500
TZOFFSETTO:-0600
END:STANDARD
BEGIN:DAYLIGHT
DTSTART:20230312T010000
TZOFFSETFROM:-0600
TZOFFSETTO:-0500
END:DAYLIGHT
END:VTIMEZONE
BEGIN:VTIMEZONE
TZID:UTC
BEGIN:STANDARD
DTSTART:20250726T183027
TZOFFSETFROM:+0000
TZOFFSETTO:+0000
END:STANDARD
END:VTIMEZONE
BEGIN:VEVENT
UID:69e913c372f76
DTSTAMP:20260422T183027Z
SUMMARY:Linking Risk Management to Strategy
URL:https://alabama.cpa/catalog/events/672158-linking-risk-management-to-st
 rategy-2022-18-11
DTSTART;TZID=America/Chicago:20221118T140000
DTEND;TZID=America/Chicago:20221118T153000
END:VEVENT
END:VCALENDAR