BEGIN:VCALENDAR
VERSION:2.0
PRODID:spatie/icalendar-generator
NAME:Cash Management - Day to Day Best Practices
X-WR-CALNAME:Cash Management - Day to Day Best Practices
BEGIN:VTIMEZONE
TZID:America/Chicago
BEGIN:DAYLIGHT
DTSTART:20220313T010000
TZOFFSETFROM:-0600
TZOFFSETTO:-0500
END:DAYLIGHT
BEGIN:STANDARD
DTSTART:20221106T010000
TZOFFSETFROM:-0500
TZOFFSETTO:-0600
END:STANDARD
BEGIN:DAYLIGHT
DTSTART:20230312T010000
TZOFFSETFROM:-0600
TZOFFSETTO:-0500
END:DAYLIGHT
END:VTIMEZONE
BEGIN:VTIMEZONE
TZID:UTC
BEGIN:STANDARD
DTSTART:20250727T082525
TZOFFSETFROM:+0000
TZOFFSETTO:+0000
END:STANDARD
END:VTIMEZONE
BEGIN:VEVENT
UID:69e9d775ae07a
DTSTAMP:20260423T082525Z
SUMMARY:Cash Management - Day to Day Best Practices
URL:https://alabama.cpa/catalog/events/712606-cash-management-day-to-day-be
 st-practices-2022-18-11
DTSTART;TZID=America/Chicago:20221118T110000
DTEND;TZID=America/Chicago:20221118T130000
END:VEVENT
END:VCALENDAR