BEGIN:VCALENDAR
VERSION:2.0
PRODID:spatie/icalendar-generator
NAME:Introduction to Sustainability Accounting
X-WR-CALNAME:Introduction to Sustainability Accounting
BEGIN:VTIMEZONE
TZID:America/Chicago
BEGIN:DAYLIGHT
DTSTART:20220313T010000
TZOFFSETFROM:-0600
TZOFFSETTO:-0500
END:DAYLIGHT
BEGIN:STANDARD
DTSTART:20221106T010000
TZOFFSETFROM:-0500
TZOFFSETTO:-0600
END:STANDARD
BEGIN:DAYLIGHT
DTSTART:20230312T010000
TZOFFSETFROM:-0600
TZOFFSETTO:-0500
END:DAYLIGHT
END:VTIMEZONE
BEGIN:VTIMEZONE
TZID:UTC
BEGIN:STANDARD
DTSTART:20250723T210635
TZOFFSETFROM:+0000
TZOFFSETTO:+0000
END:STANDARD
END:VTIMEZONE
BEGIN:VEVENT
UID:69e543db9d3b6
DTSTAMP:20260419T210635Z
SUMMARY:Introduction to Sustainability Accounting
URL:https://alabama.cpa/catalog/events/712715-introduction-to-sustainabilit
 y-accounting-2022-18-11
DTSTART;TZID=America/Chicago:20221118T090000
DTEND;TZID=America/Chicago:20221118T104900
END:VEVENT
END:VCALENDAR