BEGIN:VCALENDAR
VERSION:2.0
PRODID:spatie/icalendar-generator
NAME:Accounting's Perfect Storm Update
X-WR-CALNAME:Accounting's Perfect Storm Update
BEGIN:VTIMEZONE
TZID:America/Chicago
BEGIN:DAYLIGHT
DTSTART:20220313T010000
TZOFFSETFROM:-0600
TZOFFSETTO:-0500
END:DAYLIGHT
BEGIN:STANDARD
DTSTART:20221106T010000
TZOFFSETFROM:-0500
TZOFFSETTO:-0600
END:STANDARD
BEGIN:DAYLIGHT
DTSTART:20230312T010000
TZOFFSETFROM:-0600
TZOFFSETTO:-0500
END:DAYLIGHT
END:VTIMEZONE
BEGIN:VTIMEZONE
TZID:UTC
BEGIN:STANDARD
DTSTART:20250729T103252
TZOFFSETFROM:+0000
TZOFFSETTO:+0000
END:STANDARD
END:VTIMEZONE
BEGIN:VEVENT
UID:69ec9854ba790
DTSTAMP:20260425T103252Z
SUMMARY:Accounting's Perfect Storm Update
URL:https://alabama.cpa/catalog/events/713097-accountings-perfect-storm-upd
 ate-2022-21-11
DTSTART;TZID=America/Chicago:20221121T130000
DTEND;TZID=America/Chicago:20221121T162800
END:VEVENT
END:VCALENDAR