BEGIN:VCALENDAR
VERSION:2.0
PRODID:spatie/icalendar-generator
NAME:Getting to Know the New Audit Report
X-WR-CALNAME:Getting to Know the New Audit Report
BEGIN:VTIMEZONE
TZID:America/Chicago
BEGIN:DAYLIGHT
DTSTART:20220313T010000
TZOFFSETFROM:-0600
TZOFFSETTO:-0500
END:DAYLIGHT
BEGIN:STANDARD
DTSTART:20221106T010000
TZOFFSETFROM:-0500
TZOFFSETTO:-0600
END:STANDARD
BEGIN:DAYLIGHT
DTSTART:20230312T010000
TZOFFSETFROM:-0600
TZOFFSETTO:-0500
END:DAYLIGHT
END:VTIMEZONE
BEGIN:VTIMEZONE
TZID:UTC
BEGIN:STANDARD
DTSTART:20250724T035531
TZOFFSETFROM:+0000
TZOFFSETTO:+0000
END:STANDARD
END:VTIMEZONE
BEGIN:VEVENT
UID:69e5a3b346516
DTSTAMP:20260420T035531Z
SUMMARY:Getting to Know the New Audit Report
URL:https://alabama.cpa/catalog/events/714534-getting-to-know-the-new-audit
 -report-2022-29-11
DTSTART;TZID=America/Chicago:20221129T150000
DTEND;TZID=America/Chicago:20221129T160000
END:VEVENT
END:VCALENDAR