BEGIN:VCALENDAR
VERSION:2.0
PRODID:spatie/icalendar-generator
NAME:Not-for-Profit Accounting Update
X-WR-CALNAME:Not-for-Profit Accounting Update
BEGIN:VTIMEZONE
TZID:America/Chicago
BEGIN:STANDARD
DTSTART:20221106T010000
TZOFFSETFROM:-0500
TZOFFSETTO:-0600
END:STANDARD
BEGIN:DAYLIGHT
DTSTART:20230312T010000
TZOFFSETFROM:-0600
TZOFFSETTO:-0500
END:DAYLIGHT
END:VTIMEZONE
BEGIN:VTIMEZONE
TZID:UTC
BEGIN:STANDARD
DTSTART:20250724T113050
TZOFFSETFROM:+0000
TZOFFSETTO:+0000
END:STANDARD
END:VTIMEZONE
BEGIN:VEVENT
UID:69e60e6a18596
DTSTAMP:20260420T113050Z
SUMMARY:Not-for-Profit Accounting Update
URL:https://alabama.cpa/catalog/events/725727-not-for-profit-accounting-upd
 ate-2023-06-02
DTSTART;TZID=America/Chicago:20230206T090000
DTEND;TZID=America/Chicago:20230206T130000
END:VEVENT
END:VCALENDAR