BEGIN:VCALENDAR
VERSION:2.0
PRODID:spatie/icalendar-generator
NAME:What's Going on at the FASB
X-WR-CALNAME:What's Going on at the FASB
BEGIN:VTIMEZONE
TZID:America/Chicago
BEGIN:STANDARD
DTSTART:20221106T010000
TZOFFSETFROM:-0500
TZOFFSETTO:-0600
END:STANDARD
BEGIN:DAYLIGHT
DTSTART:20230312T010000
TZOFFSETFROM:-0600
TZOFFSETTO:-0500
END:DAYLIGHT
END:VTIMEZONE
BEGIN:VTIMEZONE
TZID:UTC
BEGIN:STANDARD
DTSTART:20250725T101836
TZOFFSETFROM:+0000
TZOFFSETTO:+0000
END:STANDARD
END:VTIMEZONE
BEGIN:VEVENT
UID:69e74efcce309
DTSTAMP:20260421T101836Z
SUMMARY:What's Going on at the FASB
URL:https://alabama.cpa/catalog/events/725732-whats-going-on-at-the-fasb-20
 23-06-02
DTSTART;TZID=America/Chicago:20230206T110000
DTEND;TZID=America/Chicago:20230206T150000
END:VEVENT
END:VCALENDAR