BEGIN:VCALENDAR
VERSION:2.0
PRODID:spatie/icalendar-generator
NAME:Real Estate Tax Update
X-WR-CALNAME:Real Estate Tax Update
BEGIN:VTIMEZONE
TZID:America/Chicago
BEGIN:STANDARD
DTSTART:20221106T010000
TZOFFSETFROM:-0500
TZOFFSETTO:-0600
END:STANDARD
BEGIN:DAYLIGHT
DTSTART:20230312T010000
TZOFFSETFROM:-0600
TZOFFSETTO:-0500
END:DAYLIGHT
END:VTIMEZONE
BEGIN:VTIMEZONE
TZID:UTC
BEGIN:STANDARD
DTSTART:20250726T094158
TZOFFSETFROM:+0000
TZOFFSETTO:+0000
END:STANDARD
END:VTIMEZONE
BEGIN:VEVENT
UID:69e897e6eb55e
DTSTAMP:20260422T094158Z
SUMMARY:Real Estate Tax Update
URL:https://alabama.cpa/catalog/events/725963-real-estate-tax-update-2023-1
 7-02
DTSTART;TZID=America/Chicago:20230217T090000
DTEND;TZID=America/Chicago:20230217T130000
END:VEVENT
END:VCALENDAR