BEGIN:VCALENDAR
VERSION:2.0
PRODID:spatie/icalendar-generator
NAME:S-Corporation Essentials: Stock & Loan Basis Reporting
X-WR-CALNAME:S-Corporation Essentials: Stock & Loan Basis Reporting
BEGIN:VTIMEZONE
TZID:America/Chicago
BEGIN:STANDARD
DTSTART:20221106T010000
TZOFFSETFROM:-0500
TZOFFSETTO:-0600
END:STANDARD
BEGIN:DAYLIGHT
DTSTART:20230312T010000
TZOFFSETFROM:-0600
TZOFFSETTO:-0500
END:DAYLIGHT
END:VTIMEZONE
BEGIN:VTIMEZONE
TZID:UTC
BEGIN:STANDARD
DTSTART:20250728T120044
TZOFFSETFROM:+0000
TZOFFSETTO:+0000
END:STANDARD
END:VTIMEZONE
BEGIN:VEVENT
UID:69eb5b6c15843
DTSTAMP:20260424T120044Z
SUMMARY:S-Corporation Essentials: Stock & Loan Basis Reporting
URL:https://alabama.cpa/catalog/events/725968-s-corporation-essentials-stoc
 k-loan-basis-reporting-2023-17-02
DTSTART;TZID=America/Chicago:20230217T130000
DTEND;TZID=America/Chicago:20230217T150000
END:VEVENT
END:VCALENDAR