BEGIN:VCALENDAR
VERSION:2.0
PRODID:spatie/icalendar-generator
NAME:What's Going on at the GASB
X-WR-CALNAME:What's Going on at the GASB
BEGIN:VTIMEZONE
TZID:America/Chicago
BEGIN:STANDARD
DTSTART:20221106T010000
TZOFFSETFROM:-0500
TZOFFSETTO:-0600
END:STANDARD
BEGIN:DAYLIGHT
DTSTART:20230312T010000
TZOFFSETFROM:-0600
TZOFFSETTO:-0500
END:DAYLIGHT
END:VTIMEZONE
BEGIN:VTIMEZONE
TZID:UTC
BEGIN:STANDARD
DTSTART:20250728T053819
TZOFFSETFROM:+0000
TZOFFSETTO:+0000
END:STANDARD
END:VTIMEZONE
BEGIN:VEVENT
UID:69eb01cb0004c
DTSTAMP:20260424T053819Z
SUMMARY:What's Going on at the GASB
URL:https://alabama.cpa/catalog/events/726620-whats-going-on-at-the-gasb-20
 23-21-03
DTSTART;TZID=America/Chicago:20230321T151500
DTEND;TZID=America/Chicago:20230321T191500
END:VEVENT
END:VCALENDAR