BEGIN:VCALENDAR
VERSION:2.0
PRODID:spatie/icalendar-generator
NAME:2022 Ethics Course for CPAs in Public Practice - A Case Study Approach
X-WR-CALNAME:2022 Ethics Course for CPAs in Public Practice - A Case Study 
 Approach
BEGIN:VTIMEZONE
TZID:America/Chicago
BEGIN:STANDARD
DTSTART:20211107T010000
TZOFFSETFROM:-0500
TZOFFSETTO:-0600
END:STANDARD
BEGIN:DAYLIGHT
DTSTART:20220313T010000
TZOFFSETFROM:-0600
TZOFFSETTO:-0500
END:DAYLIGHT
BEGIN:STANDARD
DTSTART:20221106T010000
TZOFFSETFROM:-0500
TZOFFSETTO:-0600
END:STANDARD
END:VTIMEZONE
BEGIN:VTIMEZONE
TZID:UTC
BEGIN:STANDARD
DTSTART:20250728T160557
TZOFFSETFROM:+0000
TZOFFSETTO:+0000
END:STANDARD
END:VTIMEZONE
BEGIN:VEVENT
UID:69eb94e5b701b
DTSTAMP:20260424T160557Z
SUMMARY:2022 Ethics Course for CPAs in Public Practice - A Case Study Appro
 ach
LOCATION:21196 E Beach Blvd\, Gulf Shores\, Baldwin County\, Alabama 36542-
 6549
URL:https://alabama.cpa/catalog/events/738840-2022-ethics-course-for-cpas-i
 n-public-practice-a-case-study-approach-2022-20-07
DTSTART;TZID=America/Chicago:20220720T130000
DTEND;TZID=America/Chicago:20220720T144000
END:VEVENT
END:VCALENDAR