BEGIN:VCALENDAR
VERSION:2.0
PRODID:spatie/icalendar-generator
NAME:Member Appreciation Series featuring ControlAltProtect: What Your IT C
 ompany Should Be Doing to Protect Your Data
X-WR-CALNAME:Member Appreciation Series featuring ControlAltProtect: What Y
 our IT Company Should Be Doing to Protect Your Data
BEGIN:VTIMEZONE
TZID:America/Chicago
BEGIN:STANDARD
DTSTART:20211107T010000
TZOFFSETFROM:-0500
TZOFFSETTO:-0600
END:STANDARD
BEGIN:DAYLIGHT
DTSTART:20220313T010000
TZOFFSETFROM:-0600
TZOFFSETTO:-0500
END:DAYLIGHT
BEGIN:STANDARD
DTSTART:20221106T010000
TZOFFSETFROM:-0500
TZOFFSETTO:-0600
END:STANDARD
END:VTIMEZONE
BEGIN:VTIMEZONE
TZID:UTC
BEGIN:STANDARD
DTSTART:20250725T033330
TZOFFSETFROM:+0000
TZOFFSETTO:+0000
END:STANDARD
END:VTIMEZONE
BEGIN:VEVENT
UID:69e6f00a213cc
DTSTAMP:20260421T033330Z
SUMMARY:Member Appreciation Series featuring ControlAltProtect: What Your I
 T Company Should Be Doing to Protect Your Data
URL:https://alabama.cpa/catalog/events/740080-member-appreciation-series-fe
 aturing-controlaltprotect-what-your-it-company-should-be-doing-to-protect-
 your-data-2022-22-07
DTSTART;TZID=America/Chicago:20220722T120000
DTEND;TZID=America/Chicago:20220722T125000
END:VEVENT
END:VCALENDAR