BEGIN:VCALENDAR
VERSION:2.0
PRODID:spatie/icalendar-generator
NAME:Member Appreciation Series with Corporate Tax Advisors: Specialized Ta
 x Incentives Your Clients Should Know About
X-WR-CALNAME:Member Appreciation Series with Corporate Tax Advisors: Specia
 lized Tax Incentives Your Clients Should Know About
BEGIN:VTIMEZONE
TZID:America/Chicago
BEGIN:DAYLIGHT
DTSTART:20220313T010000
TZOFFSETFROM:-0600
TZOFFSETTO:-0500
END:DAYLIGHT
BEGIN:STANDARD
DTSTART:20221106T010000
TZOFFSETFROM:-0500
TZOFFSETTO:-0600
END:STANDARD
END:VTIMEZONE
BEGIN:VTIMEZONE
TZID:UTC
BEGIN:STANDARD
DTSTART:20250730T014034
TZOFFSETFROM:+0000
TZOFFSETTO:+0000
END:STANDARD
END:VTIMEZONE
BEGIN:VEVENT
UID:69ed6d123146a
DTSTAMP:20260426T014034Z
SUMMARY:Member Appreciation Series with Corporate Tax Advisors: Specialized
  Tax Incentives Your Clients Should Know About
URL:https://alabama.cpa/catalog/events/740123-member-appreciation-series-wi
 th-corporate-tax-advisors-specialized-tax-incentives-your-clients-should-k
 now-about-2022-25-08
DTSTART;TZID=America/Chicago:20220825T120000
DTEND;TZID=America/Chicago:20220825T125000
END:VEVENT
END:VCALENDAR