BEGIN:VCALENDAR
VERSION:2.0
PRODID:spatie/icalendar-generator
NAME:Summer Education Conference
X-WR-CALNAME:Summer Education Conference
BEGIN:VTIMEZONE
TZID:America/Chicago
BEGIN:STANDARD
DTSTART:20211107T010000
TZOFFSETFROM:-0500
TZOFFSETTO:-0600
END:STANDARD
BEGIN:DAYLIGHT
DTSTART:20220313T010000
TZOFFSETFROM:-0600
TZOFFSETTO:-0500
END:DAYLIGHT
BEGIN:STANDARD
DTSTART:20221106T010000
TZOFFSETFROM:-0500
TZOFFSETTO:-0600
END:STANDARD
END:VTIMEZONE
BEGIN:VTIMEZONE
TZID:UTC
BEGIN:STANDARD
DTSTART:20250728T015140
TZOFFSETFROM:+0000
TZOFFSETTO:+0000
END:STANDARD
END:VTIMEZONE
BEGIN:VEVENT
UID:69eaccac20aa3
DTSTAMP:20260424T015140Z
SUMMARY:Taxation Update with Lisa McKinney
LOCATION:21196 E Beach Blvd\, Gulf Shores\, Baldwin County\, Alabama 36542-
 6549
URL:https://alabama.cpa/catalog/events/740569-summer-education-conference-2
 022-18-07
DTSTART;TZID=America/Chicago:20220718T080000
DTEND;TZID=America/Chicago:20220718T114000
END:VEVENT
BEGIN:VEVENT
UID:69eaccac237dc
DTSTAMP:20260424T015140Z
SUMMARY:Technology Update
LOCATION:21196 E Beach Blvd\, Gulf Shores\, Baldwin County\, Alabama 36542-
 6549
URL:https://alabama.cpa/catalog/events/740569-summer-education-conference-2
 022-18-07
DTSTART;TZID=America/Chicago:20220719T100000
DTEND;TZID=America/Chicago:20220719T114000
END:VEVENT
BEGIN:VEVENT
UID:69eaccac2486f
DTSTAMP:20260424T015140Z
SUMMARY:DEI Topic
LOCATION:21196 E Beach Blvd\, Gulf Shores\, Baldwin County\, Alabama 36542-
 6549
URL:https://alabama.cpa/catalog/events/740569-summer-education-conference-2
 022-18-07
DTSTART;TZID=America/Chicago:20220720T080000
DTEND;TZID=America/Chicago:20220720T094000
END:VEVENT
BEGIN:VEVENT
UID:69eaccac258f4
DTSTAMP:20260424T015140Z
SUMMARY:Professional Issues Update
LOCATION:21196 E Beach Blvd\, Gulf Shores\, Baldwin County\, Alabama 36542-
 6549
URL:https://alabama.cpa/catalog/events/740569-summer-education-conference-2
 022-18-07
DTSTART;TZID=America/Chicago:20220720T100000
DTEND;TZID=America/Chicago:20220720T114000
END:VEVENT
BEGIN:VEVENT
UID:69eaccac26915
DTSTAMP:20260424T015140Z
SUMMARY:A&A Update
LOCATION:21196 E Beach Blvd\, Gulf Shores\, Baldwin County\, Alabama 36542-
 6549
URL:https://alabama.cpa/catalog/events/740569-summer-education-conference-2
 022-18-07
DTSTART;TZID=America/Chicago:20220721T080000
DTEND;TZID=America/Chicago:20220721T114000
END:VEVENT
BEGIN:VEVENT
UID:69eaccac279ee
DTSTAMP:20260424T015140Z
SUMMARY:Economic Update
LOCATION:21196 E Beach Blvd\, Gulf Shores\, Baldwin County\, Alabama 36542-
 6549
URL:https://alabama.cpa/catalog/events/740569-summer-education-conference-2
 022-18-07
DTSTART;TZID=America/Chicago:20220722T080000
DTEND;TZID=America/Chicago:20220722T094000
END:VEVENT
BEGIN:VEVENT
UID:69eaccac28a6f
DTSTAMP:20260424T015140Z
SUMMARY:Environmental\, Social\, and Governmental Update
LOCATION:21196 E Beach Blvd\, Gulf Shores\, Baldwin County\, Alabama 36542-
 6549
URL:https://alabama.cpa/catalog/events/740569-summer-education-conference-2
 022-18-07
DTSTART;TZID=America/Chicago:20220722T100000
DTEND;TZID=America/Chicago:20220722T114000
END:VEVENT
BEGIN:VEVENT
UID:69eaccac29aa6
DTSTAMP:20260424T015140Z
SUMMARY:A&A Hot Topic
LOCATION:21196 E Beach Blvd\, Gulf Shores\, Baldwin County\, Alabama 36542-
 6549
URL:https://alabama.cpa/catalog/events/740569-summer-education-conference-2
 022-18-07
DTSTART;TZID=America/Chicago:20220719T080000
DTEND;TZID=America/Chicago:20220719T094000
END:VEVENT
END:VCALENDAR