BEGIN:VCALENDAR
VERSION:2.0
PRODID:spatie/icalendar-generator
NAME:Surgent's Fraud and Abuse in Not-for-Profit Entities and Governments: 
 Stealing from Everyone
X-WR-CALNAME:Surgent's Fraud and Abuse in Not-for-Profit Entities and Gover
 nments: Stealing from Everyone
BEGIN:VTIMEZONE
TZID:America/Chicago
BEGIN:DAYLIGHT
DTSTART:20220313T010000
TZOFFSETFROM:-0600
TZOFFSETTO:-0500
END:DAYLIGHT
BEGIN:STANDARD
DTSTART:20221106T010000
TZOFFSETFROM:-0500
TZOFFSETTO:-0600
END:STANDARD
BEGIN:DAYLIGHT
DTSTART:20230312T010000
TZOFFSETFROM:-0600
TZOFFSETTO:-0500
END:DAYLIGHT
END:VTIMEZONE
BEGIN:VTIMEZONE
TZID:UTC
BEGIN:STANDARD
DTSTART:20250725T222356
TZOFFSETFROM:+0000
TZOFFSETTO:+0000
END:STANDARD
END:VTIMEZONE
BEGIN:VEVENT
UID:69e7f8fc7d122
DTSTAMP:20260421T222356Z
SUMMARY:Surgent's Fraud and Abuse in Not-for-Profit Entities and Government
 s: Stealing from Everyone
URL:https://alabama.cpa/catalog/events/753328-surgents-fraud-and-abuse-in-n
 ot-for-profit-entities-and-governments-stealing-from-everyone-2022-18-11
DTSTART;TZID=America/Chicago:20221118T080000
DTEND;TZID=America/Chicago:20221118T160000
END:VEVENT
END:VCALENDAR