BEGIN:VCALENDAR
VERSION:2.0
PRODID:spatie/icalendar-generator
NAME:Surgent's Assessing the Risk of Fraud In a Financial Statement Audit
X-WR-CALNAME:Surgent's Assessing the Risk of Fraud In a Financial Statement
  Audit
BEGIN:VTIMEZONE
TZID:America/Chicago
BEGIN:DAYLIGHT
DTSTART:20220313T010000
TZOFFSETFROM:-0600
TZOFFSETTO:-0500
END:DAYLIGHT
BEGIN:STANDARD
DTSTART:20221106T010000
TZOFFSETFROM:-0500
TZOFFSETTO:-0600
END:STANDARD
BEGIN:DAYLIGHT
DTSTART:20230312T010000
TZOFFSETFROM:-0600
TZOFFSETTO:-0500
END:DAYLIGHT
END:VTIMEZONE
BEGIN:VTIMEZONE
TZID:UTC
BEGIN:STANDARD
DTSTART:20250730T002855
TZOFFSETFROM:+0000
TZOFFSETTO:+0000
END:STANDARD
END:VTIMEZONE
BEGIN:VEVENT
UID:69ed5c476d305
DTSTAMP:20260426T002855Z
SUMMARY:Surgent's Assessing the Risk of Fraud In a Financial Statement Audi
 t
URL:https://alabama.cpa/catalog/events/753671-surgents-assessing-the-risk-o
 f-fraud-in-a-financial-statement-audit-2022-01-12
DTSTART;TZID=America/Chicago:20221201T080000
DTEND;TZID=America/Chicago:20221201T160000
END:VEVENT
END:VCALENDAR