BEGIN:VCALENDAR
VERSION:2.0
PRODID:spatie/icalendar-generator
NAME:Surgent's Successfully Completing an Income Tax Return for a Trust or 
 Estate -- Form 1041
X-WR-CALNAME:Surgent's Successfully Completing an Income Tax Return for a T
 rust or Estate -- Form 1041
BEGIN:VTIMEZONE
TZID:America/Chicago
BEGIN:STANDARD
DTSTART:20221106T010000
TZOFFSETFROM:-0500
TZOFFSETTO:-0600
END:STANDARD
BEGIN:DAYLIGHT
DTSTART:20230312T010000
TZOFFSETFROM:-0600
TZOFFSETTO:-0500
END:DAYLIGHT
END:VTIMEZONE
BEGIN:VTIMEZONE
TZID:UTC
BEGIN:STANDARD
DTSTART:20250726T143631
TZOFFSETFROM:+0000
TZOFFSETTO:+0000
END:STANDARD
END:VTIMEZONE
BEGIN:VEVENT
UID:69e8dcef28c3d
DTSTAMP:20260422T143631Z
SUMMARY:Surgent's Successfully Completing an Income Tax Return for a Trust 
 or Estate -- Form 1041
URL:https://alabama.cpa/catalog/events/757929-surgents-successfully-complet
 ing-an-income-tax-return-for-a-trust-or-estate-form-1041-2023-16-02
DTSTART;TZID=America/Chicago:20230216T120000
DTEND;TZID=America/Chicago:20230216T140000
END:VEVENT
END:VCALENDAR