BEGIN:VCALENDAR
VERSION:2.0
PRODID:spatie/icalendar-generator
NAME:Monthly Federal Tax Update - February 2023
X-WR-CALNAME:Monthly Federal Tax Update - February 2023
BEGIN:VTIMEZONE
TZID:America/Chicago
BEGIN:STANDARD
DTSTART:20221106T010000
TZOFFSETFROM:-0500
TZOFFSETTO:-0600
END:STANDARD
BEGIN:DAYLIGHT
DTSTART:20230312T010000
TZOFFSETFROM:-0600
TZOFFSETTO:-0500
END:DAYLIGHT
END:VTIMEZONE
BEGIN:VTIMEZONE
TZID:UTC
BEGIN:STANDARD
DTSTART:20250725T100058
TZOFFSETFROM:+0000
TZOFFSETTO:+0000
END:STANDARD
END:VTIMEZONE
BEGIN:VEVENT
UID:69e74ada9ca0d
DTSTAMP:20260421T100058Z
SUMMARY:Monthly Federal Tax Update - February 2023
URL:https://alabama.cpa/catalog/events/1222389-monthly-federal-tax-update-f
 ebruary-2023-2023-20-02
DTSTART;TZID=America/Chicago:20230220T100000
DTEND;TZID=America/Chicago:20230220T120000
END:VEVENT
END:VCALENDAR