BEGIN:VCALENDAR
VERSION:2.0
PRODID:spatie/icalendar-generator
NAME:The CFO Who Went to Prison
X-WR-CALNAME:The CFO Who Went to Prison
BEGIN:VTIMEZONE
TZID:America/Chicago
BEGIN:STANDARD
DTSTART:20221106T010000
TZOFFSETFROM:-0500
TZOFFSETTO:-0600
END:STANDARD
BEGIN:DAYLIGHT
DTSTART:20230312T010000
TZOFFSETFROM:-0600
TZOFFSETTO:-0500
END:DAYLIGHT
END:VTIMEZONE
BEGIN:VTIMEZONE
TZID:UTC
BEGIN:STANDARD
DTSTART:20250729T030530
TZOFFSETFROM:+0000
TZOFFSETTO:+0000
END:STANDARD
END:VTIMEZONE
BEGIN:VEVENT
UID:69ec2f7af0437
DTSTAMP:20260425T030530Z
SUMMARY:The CFO Who Went to Prison
URL:https://alabama.cpa/catalog/events/1224765-the-cfo-who-went-to-prison-2
 023-08-02
DTSTART;TZID=America/Chicago:20230208T133000
DTEND;TZID=America/Chicago:20230208T153000
END:VEVENT
END:VCALENDAR