BEGIN:VCALENDAR
VERSION:2.0
PRODID:spatie/icalendar-generator
NAME:Power BI - Analyze Your Data With Excel Pivot Tables
X-WR-CALNAME:Power BI - Analyze Your Data With Excel Pivot Tables
BEGIN:VTIMEZONE
TZID:America/Chicago
BEGIN:STANDARD
DTSTART:20221106T010000
TZOFFSETFROM:-0500
TZOFFSETTO:-0600
END:STANDARD
BEGIN:DAYLIGHT
DTSTART:20230312T010000
TZOFFSETFROM:-0600
TZOFFSETTO:-0500
END:DAYLIGHT
END:VTIMEZONE
BEGIN:VTIMEZONE
TZID:UTC
BEGIN:STANDARD
DTSTART:20250727T145022
TZOFFSETFROM:+0000
TZOFFSETTO:+0000
END:STANDARD
END:VTIMEZONE
BEGIN:VEVENT
UID:69ea31aec527c
DTSTAMP:20260423T145022Z
SUMMARY:Power BI - Analyze Your Data With Excel Pivot Tables
URL:https://alabama.cpa/catalog/events/1225339-power-bi-analyze-your-data-w
 ith-excel-pivot-tables-2023-08-02
DTSTART;TZID=America/Chicago:20230208T120000
DTEND;TZID=America/Chicago:20230208T160000
END:VEVENT
END:VCALENDAR