BEGIN:VCALENDAR
VERSION:2.0
PRODID:spatie/icalendar-generator
NAME:Complex Manager Comp Scenarios: Core Form VII-A & Schedule J
X-WR-CALNAME:Complex Manager Comp Scenarios: Core Form VII-A & Schedule J
BEGIN:VTIMEZONE
TZID:America/Chicago
BEGIN:STANDARD
DTSTART:20221106T010000
TZOFFSETFROM:-0500
TZOFFSETTO:-0600
END:STANDARD
BEGIN:DAYLIGHT
DTSTART:20230312T010000
TZOFFSETFROM:-0600
TZOFFSETTO:-0500
END:DAYLIGHT
END:VTIMEZONE
BEGIN:VTIMEZONE
TZID:UTC
BEGIN:STANDARD
DTSTART:20250727T235318
TZOFFSETFROM:+0000
TZOFFSETTO:+0000
END:STANDARD
END:VTIMEZONE
BEGIN:VEVENT
UID:69eab0ee6f8a7
DTSTAMP:20260423T235318Z
SUMMARY:Complex Manager Comp Scenarios: Core Form VII-A & Schedule J
URL:https://alabama.cpa/catalog/events/1226523-complex-manager-comp-scenari
 os-core-form-vii-a-schedule-j-2023-08-02
DTSTART;TZID=America/Chicago:20230208T110000
DTEND;TZID=America/Chicago:20230208T133000
END:VEVENT
END:VCALENDAR