BEGIN:VCALENDAR
VERSION:2.0
PRODID:spatie/icalendar-generator
NAME:Key Cybersecurity Controls for CPAs
X-WR-CALNAME:Key Cybersecurity Controls for CPAs
BEGIN:VTIMEZONE
TZID:America/Chicago
BEGIN:DAYLIGHT
DTSTART:20220313T010000
TZOFFSETFROM:-0600
TZOFFSETTO:-0500
END:DAYLIGHT
BEGIN:STANDARD
DTSTART:20221106T010000
TZOFFSETFROM:-0500
TZOFFSETTO:-0600
END:STANDARD
BEGIN:DAYLIGHT
DTSTART:20230312T010000
TZOFFSETFROM:-0600
TZOFFSETTO:-0500
END:DAYLIGHT
END:VTIMEZONE
BEGIN:VTIMEZONE
TZID:UTC
BEGIN:STANDARD
DTSTART:20250725T030047
TZOFFSETFROM:+0000
TZOFFSETTO:+0000
END:STANDARD
END:VTIMEZONE
BEGIN:VEVENT
UID:69e6e85fcb5de
DTSTAMP:20260421T030047Z
SUMMARY:Key Cybersecurity Controls for CPAs
URL:https://alabama.cpa/catalog/events/1227109-key-cybersecurity-controls-f
 or-cpas-2022-29-11
DTSTART;TZID=America/Chicago:20221129T160000
DTEND;TZID=America/Chicago:20221129T180000
END:VEVENT
END:VCALENDAR