BEGIN:VCALENDAR
VERSION:2.0
PRODID:spatie/icalendar-generator
NAME:IRS Tax Liens and Tax Levies
X-WR-CALNAME:IRS Tax Liens and Tax Levies
BEGIN:VTIMEZONE
TZID:America/Chicago
BEGIN:DAYLIGHT
DTSTART:20220313T010000
TZOFFSETFROM:-0600
TZOFFSETTO:-0500
END:DAYLIGHT
BEGIN:STANDARD
DTSTART:20221106T010000
TZOFFSETFROM:-0500
TZOFFSETTO:-0600
END:STANDARD
BEGIN:DAYLIGHT
DTSTART:20230312T010000
TZOFFSETFROM:-0600
TZOFFSETTO:-0500
END:DAYLIGHT
END:VTIMEZONE
BEGIN:VTIMEZONE
TZID:UTC
BEGIN:STANDARD
DTSTART:20250724T140034
TZOFFSETFROM:+0000
TZOFFSETTO:+0000
END:STANDARD
END:VTIMEZONE
BEGIN:VEVENT
UID:69e6318204511
DTSTAMP:20260420T140034Z
SUMMARY:IRS Tax Liens and Tax Levies
URL:https://alabama.cpa/catalog/events/1229861-irs-tax-liens-and-tax-levies
 -2022-28-11
DTSTART;TZID=America/Chicago:20221128T140000
DTEND;TZID=America/Chicago:20221128T160000
END:VEVENT
END:VCALENDAR