BEGIN:VCALENDAR
VERSION:2.0
PRODID:spatie/icalendar-generator
NAME:LinkedIn Profile Secrets for CPAs
X-WR-CALNAME:LinkedIn Profile Secrets for CPAs
BEGIN:VTIMEZONE
TZID:America/Chicago
BEGIN:STANDARD
DTSTART:20221106T010000
TZOFFSETFROM:-0500
TZOFFSETTO:-0600
END:STANDARD
BEGIN:DAYLIGHT
DTSTART:20230312T010000
TZOFFSETFROM:-0600
TZOFFSETTO:-0500
END:DAYLIGHT
END:VTIMEZONE
BEGIN:VTIMEZONE
TZID:UTC
BEGIN:STANDARD
DTSTART:20250725T082112
TZOFFSETFROM:+0000
TZOFFSETTO:+0000
END:STANDARD
END:VTIMEZONE
BEGIN:VEVENT
UID:69e733780482c
DTSTAMP:20260421T082112Z
SUMMARY:LinkedIn Profile Secrets for CPAs
URL:https://alabama.cpa/catalog/events/1231351-linkedin-profile-secrets-for
 -cpas-2023-14-02
DTSTART;TZID=America/Chicago:20230214T133000
DTEND;TZID=America/Chicago:20230214T153000
END:VEVENT
END:VCALENDAR