BEGIN:VCALENDAR
VERSION:2.0
PRODID:spatie/icalendar-generator
NAME:Tax Season Update for Individuals with Steve Dilley
X-WR-CALNAME:Tax Season Update for Individuals with Steve Dilley
BEGIN:VTIMEZONE
TZID:America/Chicago
BEGIN:STANDARD
DTSTART:20221106T010000
TZOFFSETFROM:-0500
TZOFFSETTO:-0600
END:STANDARD
BEGIN:DAYLIGHT
DTSTART:20230312T010000
TZOFFSETFROM:-0600
TZOFFSETTO:-0500
END:DAYLIGHT
END:VTIMEZONE
BEGIN:VTIMEZONE
TZID:UTC
BEGIN:STANDARD
DTSTART:20250727T191617
TZOFFSETFROM:+0000
TZOFFSETTO:+0000
END:STANDARD
END:VTIMEZONE
BEGIN:VEVENT
UID:69ea7001a0bb5
DTSTAMP:20260423T191617Z
SUMMARY:Tax Season Update for Individuals with Steve Dilley
URL:https://alabama.cpa/catalog/events/1231570-tax-season-update-for-indivi
 duals-with-steve-dilley-2023-23-02
DTSTART;TZID=America/Chicago:20230223T120000
DTEND;TZID=America/Chicago:20230223T160000
END:VEVENT
END:VCALENDAR