BEGIN:VCALENDAR
VERSION:2.0
PRODID:spatie/icalendar-generator
NAME:Ethics at Work: Diversity\, Equity and Inclusion
X-WR-CALNAME:Ethics at Work: Diversity\, Equity and Inclusion
BEGIN:VTIMEZONE
TZID:America/Chicago
BEGIN:STANDARD
DTSTART:20221106T010000
TZOFFSETFROM:-0500
TZOFFSETTO:-0600
END:STANDARD
BEGIN:DAYLIGHT
DTSTART:20230312T010000
TZOFFSETFROM:-0600
TZOFFSETTO:-0500
END:DAYLIGHT
END:VTIMEZONE
BEGIN:VTIMEZONE
TZID:UTC
BEGIN:STANDARD
DTSTART:20250728T184432
TZOFFSETFROM:+0000
TZOFFSETTO:+0000
END:STANDARD
END:VTIMEZONE
BEGIN:VEVENT
UID:69ebba102c808
DTSTAMP:20260424T184432Z
SUMMARY:Ethics at Work: Diversity\, Equity and Inclusion
URL:https://alabama.cpa/catalog/events/1231915-ethics-at-work-diversity-equ
 ity-and-inclusion-2023-21-02
DTSTART;TZID=America/Chicago:20230221T140000
DTEND;TZID=America/Chicago:20230221T160000
END:VEVENT
END:VCALENDAR