BEGIN:VCALENDAR
VERSION:2.0
PRODID:spatie/icalendar-generator
NAME:Grow Your CPA Business: LinkedIn for Networking and Referral
X-WR-CALNAME:Grow Your CPA Business: LinkedIn for Networking and Referral
BEGIN:VTIMEZONE
TZID:America/Chicago
BEGIN:STANDARD
DTSTART:20221106T010000
TZOFFSETFROM:-0500
TZOFFSETTO:-0600
END:STANDARD
BEGIN:DAYLIGHT
DTSTART:20230312T010000
TZOFFSETFROM:-0600
TZOFFSETTO:-0500
END:DAYLIGHT
END:VTIMEZONE
BEGIN:VTIMEZONE
TZID:UTC
BEGIN:STANDARD
DTSTART:20250725T072555
TZOFFSETFROM:+0000
TZOFFSETTO:+0000
END:STANDARD
END:VTIMEZONE
BEGIN:VEVENT
UID:69e7268303dc5
DTSTAMP:20260421T072555Z
SUMMARY:Grow Your CPA Business: LinkedIn for Networking and Referral
URL:https://alabama.cpa/catalog/events/1235567-grow-your-cpa-business-linke
 din-for-networking-and-referral-2023-14-02
DTSTART;TZID=America/Chicago:20230214T090000
DTEND;TZID=America/Chicago:20230214T110000
END:VEVENT
END:VCALENDAR